BEGIN:VCALENDAR
VERSION:2.0
X-WR-CALNAME: Upcoming shows
PRODID:GIGPRESS 2.0 WORDPRESS PLUGIN
CALSCALE:GREGORIAN
X-WR-TIMEZONE:Etc/GMT
METHOD:PUBLISH
BEGIN:VTIMEZONE
TZID:GMT
BEGIN:STANDARD
DTSTART:20071028T010000
TZOFFSETTO:+0000
TZOFFSETFROM:+0000
END:STANDARD
END:VTIMEZONE
BEGIN:VEVENT
SUMMARY:The Box Tops at The State Theater
DESCRIPTION:Notes: With Herman's Hermits starring Peter Noone 
LOCATION:The State Theater\, Easton\, US
UID:20260425T070000Z-101-crybaby2003@cox.net
URL:https://boxtops.com
DTSTART;VALUE=DATE-TIME;TZID=GMT:20260425T070000Z
DTEND;VALUE=DATE-TIME;TZID=GMT:20260425T070000Z
DTSTAMP:20260424T014324Z
END:VEVENT
BEGIN:VEVENT
SUMMARY:The Box Tops at Kool Deadwood Nights
DESCRIPTION:
LOCATION:Kool Deadwood Nights\, Wall ST and Main St -\, Deadwood\, US
UID:20260822T200000Z-97-crybaby2003@cox.net
URL:https://boxtops.com
DTSTART;VALUE=DATE-TIME;TZID=GMT:20260822T200000Z
DTEND;VALUE=DATE-TIME;TZID=GMT:20260822T200000Z
DTSTAMP:20260424T014324Z
END:VEVENT
BEGIN:VEVENT
SUMMARY:The Box Tops at Blue Gate Performing Arts Center
DESCRIPTION:Notes: With Herman’s Hermits starring Peter Noone 
LOCATION:Blue Gate Performing Arts Center\, Shipshewana\, US
UID:20261119T190000Z-104-crybaby2003@cox.net
URL:https://boxtops.com
DTSTART;VALUE=DATE-TIME;TZID=GMT:20261119T190000Z
DTEND;VALUE=DATE-TIME;TZID=GMT:20261119T190000Z
DTSTAMP:20260424T014324Z
END:VEVENT
BEGIN:VEVENT
SUMMARY:The Box Tops at Flower Power Cruise
DESCRIPTION:
LOCATION:Flower Power Cruise\, At Sea\, US
UID:20270320T190000Z-105-crybaby2003@cox.net
URL:https://boxtops.com
DTSTART;VALUE=DATE-TIME;TZID=GMT:20270320T190000Z
DTEND;VALUE=DATE-TIME;TZID=GMT:20270327T190000Z
DTSTAMP:20260424T014324Z
END:VEVENT
BEGIN:VEVENT
SUMMARY:The Box Tops at Barrie Center for the Performing Arts
DESCRIPTION:
LOCATION:Barrie Center for the Performing Arts\, Ramapo College of New Jersey\, Mahwah\, US
UID:20270501T190000Z-106-crybaby2003@cox.net
URL:https://boxtops.com
DTSTART;VALUE=DATE-TIME;TZID=GMT:20270501T190000Z
DTEND;VALUE=DATE-TIME;TZID=GMT:20270501T190000Z
DTSTAMP:20260424T014324Z
END:VEVENT
END:VCALENDAR