BEGIN:VCALENDAR
VERSION:2.0
PRODID:GIGPRESS 2.0 WORDPRESS PLUGIN
CALSCALE:GREGORIAN
X-WR-TIMEZONE:Etc/GMT
METHOD:PUBLISH
BEGIN:VTIMEZONE
TZID:GMT
BEGIN:STANDARD
DTSTART:20071028T010000
TZOFFSETTO:+0000
TZOFFSETFROM:+0000
END:STANDARD
END:VTIMEZONE
BEGIN:VEVENT
SUMMARY:The Box Tops at Blue Gate Performing Arts Center
DESCRIPTION:Notes: With Herman’s Hermits starring Peter Noone 
LOCATION:Blue Gate Performing Arts Center\, Shipshewana\, US
UID:20261119T190000Z-104-crybaby2003@cox.net
URL:https://boxtops.com
DTSTART;VALUE=DATE-TIME;TZID=GMT:20261119T190000Z
DTEND;VALUE=DATE-TIME;TZID=GMT:20261119T190000Z
DTSTAMP:20260424T014445Z
END:VEVENT
END:VCALENDAR